BEGIN:VCALENDAR
VERSION:2.0
PRODID:-//demosphere.net//NONSGML kigkonsult.se iCalcreator 2.22.1//
METHOD:REQUEST
X-WR-TIMEZONE:Europe/Brussels
BEGIN:VEVENT
UID:https://safe.bxl.demosphere.net/rv/18729
DTSTAMP:20260419T090000Z
DESCRIPTION:plus d'infos sur : https://safe.bxl.demosphere.net/rv/18729
DTSTART:20260419T090000Z
DTEND:20260419T100000Z
LOCATION:1000 Bruxelles\, \nJOC nationale\, 4 rue d'Anderlecht\, 1000 Bruxe
 lles
SUMMARY:Assemblée : Contre les guerres et pour l’autodétermination des peup
 les
URL:https://safe.bxl.demosphere.net/rv/18729
END:VEVENT
END:VCALENDAR
